BEGIN:VCALENDAR
VERSION:2.0
PRODID:-//CERN//INDICO//EN
BEGIN:VEVENT
SUMMARY:Nomination of Candidates for Research Associate in Medicine
DTSTART;VALUE=DATE-TIME:20260424T050000Z
DTEND;VALUE=DATE-TIME:20260530T220000Z
DTSTAMP;VALUE=DATE-TIME:20260424T150100Z
UID:indico-event-137@events.kenet.or.ke
DESCRIPTION:https://events.kenet.or.ke/event/137/
URL:https://events.kenet.or.ke/event/137/
END:VEVENT
END:VCALENDAR
